BEGIN:VCALENDAR
VERSION:2.0
PRODID:-//Kolpingsfamilie Rosenheim eV - ECPv4.9.8//NONSGML v1.0//EN
CALSCALE:GREGORIAN
METHOD:PUBLISH
X-WR-CALNAME:Kolpingsfamilie Rosenheim eV
X-ORIGINAL-URL:https://neu.kolpingsfamilie-rosenheim.de
X-WR-CALDESC:Veranstaltungen im Kolpingsfamilie Rosenheim eV
BEGIN:VTIMEZONE
TZID:Europe/Berlin
BEGIN:DAYLIGHT
TZOFFSETFROM:+0100
TZOFFSETTO:+0200
TZNAME:CEST
DTSTART:20180325T010000
END:DAYLIGHT
BEGIN:STANDARD
TZOFFSETFROM:+0200
TZOFFSETTO:+0100
TZNAME:CET
DTSTART:20181028T010000
END:STANDARD
END:VTIMEZONE
BEGIN:VEVENT
DTSTART;TZID="Europe/Berlin":20181114T170000
DTEND;TZID="Europe/Berlin":20181114T190000
DTSTAMP:20260419T122032
CREATED:20180825T161344Z
LAST-MODIFIED:20181113T223612Z
UID:1010-1542214800-1542222000@neu.kolpingsfamilie-rosenheim.de
SUMMARY:Vortrag: "Insekten tragen die Welt"
DESCRIPTION:Für die  November – Monatsversammlung  konnten wir als Referent Dr. Josef Heringer gewinnen.\nDer Vortrag beginnt entgegen unserer üblichen Zeit schon um 17 Uhr. \n
URL:https://neu.kolpingsfamilie-rosenheim.de/veranstaltung/vortrag-insekten-tragen-die-welt/
LOCATION:Ölberg\, St. Nikolaus Vorplatz\, Rosenheim
CATEGORIES:Kolpingsfamilie Rosenheim Monatsversammlung
ORGANIZER;CN="Kolpingsfamilie%20Rosenheim":MAILTO:kf-rosenheim@t-online.de
END:VEVENT
END:VCALENDAR