BEGIN:VCALENDAR
VERSION:2.0
PRODID:-//Kolpingsfamilie Rosenheim eV - ECPv4.9.8//NONSGML v1.0//EN
CALSCALE:GREGORIAN
METHOD:PUBLISH
X-WR-CALNAME:Kolpingsfamilie Rosenheim eV
X-ORIGINAL-URL:https://neu.kolpingsfamilie-rosenheim.de
X-WR-CALDESC:Veranstaltungen im Kolpingsfamilie Rosenheim eV
BEGIN:VTIMEZONE
TZID:Europe/Berlin
BEGIN:DAYLIGHT
TZOFFSETFROM:+0100
TZOFFSETTO:+0200
TZNAME:CEST
DTSTART:20180325T010000
END:DAYLIGHT
BEGIN:STANDARD
TZOFFSETFROM:+0200
TZOFFSETTO:+0100
TZNAME:CET
DTSTART:20181028T010000
END:STANDARD
END:VTIMEZONE
BEGIN:VEVENT
DTSTART;TZID="Europe/Berlin":20181023T180000
DTEND;TZID="Europe/Berlin":20181023T200000
DTSTAMP:20260419T154228
CREATED:20180825T155439Z
LAST-MODIFIED:20180825T155439Z
UID:1004-1540317600-1540324800@neu.kolpingsfamilie-rosenheim.de
SUMMARY:Vortrag "Fair Trade Mode aus Indien"
DESCRIPTION:Erfahren Sie mehr über die Geschichte des Modelabels Azadi. Der Beginn war in Fürth\, das Sozialunternehmen in Delhi\, die Modeschulen in Deutschland und Indien. Wie dieses Projekt junge Menschen verbindet und dabei schicke Mode entsteht\, davon berichtet die Referentin mit vielen Bildern und Eindrücken.\nReferentin: Elke Klemenz\, Geschäftsführerin FARCAP\nFaire Mode gGmbH \nEintritt frei\, Spenden erwünscht \n
URL:https://neu.kolpingsfamilie-rosenheim.de/veranstaltung/vortrag-fair-trade-mode-aus-indien/
LOCATION:Bildungszentrum Rosenheim\, Pettenkoferstr. 5\, Pettenkoferstr. 5\, Rosenheim\, Bayern\, 83022\, Deutschland
CATEGORIES:Gesellschaftspolitisches Forum
END:VEVENT
END:VCALENDAR