BEGIN:VCALENDAR
VERSION:2.0
PRODID:-//Kolpingsfamilie Rosenheim eV - ECPv4.9.8//NONSGML v1.0//EN
CALSCALE:GREGORIAN
METHOD:PUBLISH
X-WR-CALNAME:Kolpingsfamilie Rosenheim eV
X-ORIGINAL-URL:https://neu.kolpingsfamilie-rosenheim.de
X-WR-CALDESC:Veranstaltungen im Kolpingsfamilie Rosenheim eV
BEGIN:VTIMEZONE
TZID:Europe/Berlin
BEGIN:DAYLIGHT
TZOFFSETFROM:+0100
TZOFFSETTO:+0200
TZNAME:CEST
DTSTART:20250330T010000
END:DAYLIGHT
BEGIN:STANDARD
TZOFFSETFROM:+0200
TZOFFSETTO:+0100
TZNAME:CET
DTSTART:20251026T010000
END:STANDARD
END:VTIMEZONE
BEGIN:VEVENT
DTSTART;TZID="Europe/Berlin":20250911T140000
DTEND;TZID="Europe/Berlin":20250911T170000
DTSTAMP:20260420T090653
CREATED:20250828T102024Z
LAST-MODIFIED:20250828T102024Z
UID:1965-1757599200-1757610000@neu.kolpingsfamilie-rosenheim.de
SUMMARY:Offener Lesekreis
DESCRIPTION:Offener Lesekreis im Buchcafe am Gleis 1 \n
URL:https://neu.kolpingsfamilie-rosenheim.de/veranstaltung/offener-lesekreis/
LOCATION:Buchcafe\, Südtiroler Platz 1A\, Rosenheim\, Bayern\, 83022\, Deutschland
CATEGORIES:Kolping-Cafe
END:VEVENT
END:VCALENDAR