BEGIN:VCALENDAR
VERSION:2.0
PRODID:-//Kolpingsfamilie Rosenheim eV - ECPv4.9.8//NONSGML v1.0//EN
CALSCALE:GREGORIAN
METHOD:PUBLISH
X-WR-CALNAME:Kolpingsfamilie Rosenheim eV
X-ORIGINAL-URL:https://neu.kolpingsfamilie-rosenheim.de
X-WR-CALDESC:Veranstaltungen im Kolpingsfamilie Rosenheim eV
BEGIN:VTIMEZONE
TZID:Europe/Berlin
BEGIN:DAYLIGHT
TZOFFSETFROM:+0100
TZOFFSETTO:+0200
TZNAME:CEST
DTSTART:20180325T010000
END:DAYLIGHT
BEGIN:STANDARD
TZOFFSETFROM:+0200
TZOFFSETTO:+0100
TZNAME:CET
DTSTART:20181028T010000
END:STANDARD
END:VTIMEZONE
BEGIN:VEVENT
DTSTART;TZID="Europe/Berlin":20181017T083000
DTEND;TZID="Europe/Berlin":20181017T090000
DTSTAMP:20260419T174954
CREATED:20180825T123728Z
LAST-MODIFIED:20180825T123728Z
UID:996-1539765000-1539766800@neu.kolpingsfamilie-rosenheim.de
SUMMARY:Morgenlob in St. Nikolaus
DESCRIPTION:anschließen gemeinsames Frühstück im Cafe Weth \n
URL:https://neu.kolpingsfamilie-rosenheim.de/veranstaltung/morgenlob-in-st-nikolaus-2/
LOCATION:St. Nikolaus\, Ludwigsplatz\, Rosenheim
CATEGORIES:Morgenlob
END:VEVENT
END:VCALENDAR