BEGIN:VCALENDAR
VERSION:2.0
PRODID:-//Kolpingsfamilie Rosenheim eV - ECPv4.9.8//NONSGML v1.0//EN
CALSCALE:GREGORIAN
METHOD:PUBLISH
X-WR-CALNAME:Kolpingsfamilie Rosenheim eV
X-ORIGINAL-URL:https://neu.kolpingsfamilie-rosenheim.de
X-WR-CALDESC:Veranstaltungen im Kolpingsfamilie Rosenheim eV
BEGIN:VTIMEZONE
TZID:Europe/Berlin
BEGIN:DAYLIGHT
TZOFFSETFROM:+0100
TZOFFSETTO:+0200
TZNAME:CEST
DTSTART:20240331T010000
END:DAYLIGHT
BEGIN:STANDARD
TZOFFSETFROM:+0200
TZOFFSETTO:+0100
TZNAME:CET
DTSTART:20241027T010000
END:STANDARD
END:VTIMEZONE
BEGIN:VEVENT
DTSTART;TZID="Europe/Berlin":20241126T160000
DTEND;TZID="Europe/Berlin":20241126T180000
DTSTAMP:20260420T091424
CREATED:20190310T145624Z
LAST-MODIFIED:20240730T082144Z
UID:1211-1732636800-1732644000@neu.kolpingsfamilie-rosenheim.de
SUMMARY:Offenes Singen 16:00 Uhr Unterkirche der Christkönigskirche
DESCRIPTION:Voradventliches offenes Singen \n
URL:https://neu.kolpingsfamilie-rosenheim.de/veranstaltung/einladung-offenes-singen-1700-uhr/
LOCATION:Christkönig\, Pfarrzentrum
ORGANIZER;CN="Kolpingsfamilie%20Rosenheim":MAILTO:kf-rosenheim@t-online.de
END:VEVENT
END:VCALENDAR