BEGIN:VCALENDAR
VERSION:2.0
PRODID:-//Kolpingsfamilie Rosenheim eV - ECPv4.9.8//NONSGML v1.0//EN
CALSCALE:GREGORIAN
METHOD:PUBLISH
X-WR-CALNAME:Kolpingsfamilie Rosenheim eV
X-ORIGINAL-URL:https://neu.kolpingsfamilie-rosenheim.de
X-WR-CALDESC:Veranstaltungen im Kolpingsfamilie Rosenheim eV
BEGIN:VTIMEZONE
TZID:Europe/Berlin
BEGIN:DAYLIGHT
TZOFFSETFROM:+0100
TZOFFSETTO:+0200
TZNAME:CEST
DTSTART:20180325T010000
END:DAYLIGHT
BEGIN:STANDARD
TZOFFSETFROM:+0200
TZOFFSETTO:+0100
TZNAME:CET
DTSTART:20181028T010000
END:STANDARD
END:VTIMEZONE
BEGIN:VEVENT
DTSTART;TZID="Europe/Berlin":20181003T080000
DTEND;TZID="Europe/Berlin":20181003T170000
DTSTAMP:20260419T191714
CREATED:20180825T123025Z
LAST-MODIFIED:20180825T123025Z
UID:989-1538553600-1538586000@neu.kolpingsfamilie-rosenheim.de
SUMMARY:Diözesanwallfahrt zum Kloster Ettal
DESCRIPTION:Um 9:00 Uhr Treffpunkt Ettaler Mühle (Imbiss möglich)\nUm 9:30 Uhr Abmarsch zur Fußwallfahrt zum Kloster zum Gottesdienst\nNach dem Mittagessen wird um 14:00 Uhr eine Vesper angeboten bevor es die Möglichkeit einer Führung durch die Landesausstellung („Wald\, Gebirg und Königstraum – Mythos Bayern“) gibt. Die Führung kostet 14-16 € und wird um 14:45\,15:15 und 15:30 angeboten. \nANMELDUNG bis 12.9. 2018  bei Eberhard Häfele ( Tel.: 08031 8 35 75) \n
URL:https://neu.kolpingsfamilie-rosenheim.de/veranstaltung/dioezesanwallfahrt-zum-kloster-ettal/
LOCATION:Kloster Ettal
CATEGORIES:Veranstaltung Diözesanverband Mü-Freising
END:VEVENT
END:VCALENDAR