BEGIN:VCALENDAR
VERSION:2.0
PRODID:-//Kolpingsfamilie Rosenheim eV - ECPv4.9.8//NONSGML v1.0//EN
CALSCALE:GREGORIAN
METHOD:PUBLISH
X-WR-CALNAME:Kolpingsfamilie Rosenheim eV
X-ORIGINAL-URL:https://neu.kolpingsfamilie-rosenheim.de
X-WR-CALDESC:Veranstaltungen im Kolpingsfamilie Rosenheim eV
BEGIN:VTIMEZONE
TZID:Europe/Berlin
BEGIN:DAYLIGHT
TZOFFSETFROM:+0100
TZOFFSETTO:+0200
TZNAME:CEST
DTSTART:20250330T010000
END:DAYLIGHT
BEGIN:STANDARD
TZOFFSETFROM:+0200
TZOFFSETTO:+0100
TZNAME:CET
DTSTART:20251026T010000
END:STANDARD
END:VTIMEZONE
BEGIN:VEVENT
DTSTART;VALUE=DATE:20251003
DTEND;VALUE=DATE:20251004
DTSTAMP:20260420T085458
CREATED:20250828T081921Z
LAST-MODIFIED:20250828T093312Z
UID:1287-1759449600-1759535999@neu.kolpingsfamilie-rosenheim.de
SUMMARY:Diözesanwallfahrt nach St. Alto und St. Birgitta
DESCRIPTION:Diözesanwallfahrt nach St. Alto und St. Birgitta                                     Start um 13:30 Uhr „Auf der Reitwiesen“ in Altomünster (direkt\n neben dem S-Bahnhof Altomünster). Anmeldung Online \n
URL:https://neu.kolpingsfamilie-rosenheim.de/veranstaltung/dioezesanwallfahrt-augustinerkloster-maria-eich-planegg/
CATEGORIES:Veranstaltung Diözesanverband Mü-Freising
END:VEVENT
END:VCALENDAR